BEGIN:VCALENDAR
VERSION:2.0
PRODID:-//Pediatrie Fes - ECPv6.10.1.1//NONSGML v1.0//EN
CALSCALE:GREGORIAN
METHOD:PUBLISH
X-ORIGINAL-URL:https://pediatriefes.com
X-WR-CALDESC:Évènements pour Pediatrie Fes
REFRESH-INTERVAL;VALUE=DURATION:PT1H
X-Robots-Tag:noindex
X-PUBLISHED-TTL:PT1H
BEGIN:VTIMEZONE
TZID:Europe/Paris
BEGIN:DAYLIGHT
TZOFFSETFROM:+0100
TZOFFSETTO:+0200
TZNAME:CEST
DTSTART:20170326T010000
END:DAYLIGHT
BEGIN:STANDARD
TZOFFSETFROM:+0200
TZOFFSETTO:+0100
TZNAME:CET
DTSTART:20171029T010000
END:STANDARD
END:VTIMEZONE
BEGIN:VEVENT
DTSTART;TZID=Europe/Paris:20170407T080000
DTEND;TZID=Europe/Paris:20170409T170000
DTSTAMP:20260423T025807
CREATED:20250130T133646Z
LAST-MODIFIED:20250130T133646Z
UID:2057-1491552000-1491757200@pediatriefes.com
SUMMARY:7 avril 2017 38ème congrès maghrébin de pédiatrie
DESCRIPTION:
URL:https://pediatriefes.com/agenda/7-avril-2017-38eme-congres-maghrebin-de-pediatrie/
LOCATION:Hammamet Tunisie\, Tunisia
CATEGORIES:Congrés
END:VEVENT
BEGIN:VEVENT
DTSTART;TZID=Europe/Paris:20170414T080000
DTEND;TZID=Europe/Paris:20170416T170000
DTSTAMP:20260423T025807
CREATED:20250130T133435Z
LAST-MODIFIED:20250130T133435Z
UID:2055-1492156800-1492362000@pediatriefes.com
SUMMARY:14 avril 2017 congrès de l'association des pédiatres du tensift Alhaouz
DESCRIPTION:
URL:https://pediatriefes.com/agenda/14-avril-2017-congres-de-lassociation-des-pediatres-du-tensift-alhaouz/
LOCATION:Marrakech\, Morocco
CATEGORIES:Congrés
END:VEVENT
BEGIN:VEVENT
DTSTART;TZID=Europe/Paris:20170421T080000
DTEND;TZID=Europe/Paris:20170422T170000
DTSTAMP:20260423T025807
CREATED:20250130T133013Z
LAST-MODIFIED:20250130T133055Z
UID:2049-1492761600-1492880400@pediatriefes.com
SUMMARY:7ème congrès national de la société marocaine de pédopsychiatrie
DESCRIPTION:
URL:https://pediatriefes.com/agenda/7eme-congres-national-de-la-societe-marocaine-de-pedopsychiatrie/
LOCATION:Marrakech hôtel Park\, Morocco
CATEGORIES:Congrés
END:VEVENT
BEGIN:VEVENT
DTSTART;TZID=Europe/Paris:20170427T080000
DTEND;TZID=Europe/Paris:20170429T170000
DTSTAMP:20260423T025807
CREATED:20250130T132922Z
LAST-MODIFIED:20250130T132922Z
UID:2046-1493280000-1493485200@pediatriefes.com
SUMMARY:16ème congrès maghrébin de chirurgie pédiatrique
DESCRIPTION:
URL:https://pediatriefes.com/agenda/16eme-congres-maghrebin-de-chirurgie-pediatrique/
LOCATION:Marrakech Hôtel Palm Plazza\, Morocco
CATEGORIES:Congrés
END:VEVENT
END:VCALENDAR