BEGIN:VCALENDAR
VERSION:2.0
PRODID:-//Pediatrie Fes - ECPv6.10.1.1//NONSGML v1.0//EN
CALSCALE:GREGORIAN
METHOD:PUBLISH
X-ORIGINAL-URL:https://pediatriefes.com
X-WR-CALDESC:Évènements pour Pediatrie Fes
REFRESH-INTERVAL;VALUE=DURATION:PT1H
X-Robots-Tag:noindex
X-PUBLISHED-TTL:PT1H
BEGIN:VTIMEZONE
TZID:Europe/Paris
BEGIN:DAYLIGHT
TZOFFSETFROM:+0100
TZOFFSETTO:+0200
TZNAME:CEST
DTSTART:20180325T010000
END:DAYLIGHT
BEGIN:STANDARD
TZOFFSETFROM:+0200
TZOFFSETTO:+0100
TZNAME:CET
DTSTART:20181028T010000
END:STANDARD
END:VTIMEZONE
BEGIN:VEVENT
DTSTART;TZID=Europe/Paris:20180317T080000
DTEND;TZID=Europe/Paris:20180318T170000
DTSTAMP:20260420T114251
CREATED:20250130T132422Z
LAST-MODIFIED:20250130T132422Z
UID:2043-1521273600-1521392400@pediatriefes.com
SUMMARY:5ème congrès de l'Association Marocaine de Neuropédiatrie
DESCRIPTION:
URL:https://pediatriefes.com/agenda/5eme-congres-de-lassociation-marocaine-de-neuropediatrie/
LOCATION:La tour Hassan Rabat\, Morocco
CATEGORIES:Congrés
END:VEVENT
END:VCALENDAR