BEGIN:VCALENDAR
VERSION:2.0
PRODID:-//Pediatrie Fes - ECPv6.10.1.1//NONSGML v1.0//EN
CALSCALE:GREGORIAN
METHOD:PUBLISH
X-WR-CALNAME:Pediatrie Fes
X-ORIGINAL-URL:https://pediatriefes.com
X-WR-CALDESC:Évènements pour Pediatrie Fes
REFRESH-INTERVAL;VALUE=DURATION:PT1H
X-Robots-Tag:noindex
X-PUBLISHED-TTL:PT1H
BEGIN:VTIMEZONE
TZID:Europe/Paris
BEGIN:DAYLIGHT
TZOFFSETFROM:+0100
TZOFFSETTO:+0200
TZNAME:CEST
DTSTART:20180325T010000
END:DAYLIGHT
BEGIN:STANDARD
TZOFFSETFROM:+0200
TZOFFSETTO:+0100
TZNAME:CET
DTSTART:20181028T010000
END:STANDARD
END:VTIMEZONE
BEGIN:VEVENT
DTSTART;TZID=Europe/Paris:20180406T080000
DTEND;TZID=Europe/Paris:20180408T170000
DTSTAMP:20260420T101049
CREATED:20250130T131919Z
LAST-MODIFIED:20250130T131919Z
UID:2033-1523001600-1523206800@pediatriefes.com
SUMMARY:3ème congrès de la société marocaine d'endocrinologie pédiatrique
DESCRIPTION:
URL:https://pediatriefes.com/agenda/3eme-congres-de-la-societe-marocaine-dendocrinologie-pediatrique/
LOCATION:Casablanca\, Morocco
CATEGORIES:Congrés
END:VEVENT
BEGIN:VEVENT
DTSTART;TZID=Europe/Paris:20180406T080000
DTEND;TZID=Europe/Paris:20180408T170000
DTSTAMP:20260420T101049
CREATED:20250130T132043Z
LAST-MODIFIED:20250130T132043Z
UID:2035-1523001600-1523206800@pediatriefes.com
SUMMARY:6ème congrès de la SOMIPEV
DESCRIPTION:
URL:https://pediatriefes.com/agenda/6eme-congres-de-la-somipev/
LOCATION:Les jardins de l’Agdal Marrakech\, Morocco
CATEGORIES:Congrés
END:VEVENT
END:VCALENDAR